BEGIN:VCALENDAR
VERSION:2.0
PRODID:-//The Normandy Park Blog - ECPv6.15.20//NONSGML v1.0//EN
CALSCALE:GREGORIAN
METHOD:PUBLISH
X-ORIGINAL-URL:https://normandyparkblog.com
X-WR-CALDESC:Events for The Normandy Park Blog
REFRESH-INTERVAL;VALUE=DURATION:PT1H
X-Robots-Tag:noindex
X-PUBLISHED-TTL:PT1H
BEGIN:VTIMEZONE
TZID:America/Los_Angeles
BEGIN:DAYLIGHT
TZOFFSETFROM:-0800
TZOFFSETTO:-0700
TZNAME:PDT
DTSTART:20180311T100000
END:DAYLIGHT
BEGIN:STANDARD
TZOFFSETFROM:-0700
TZOFFSETTO:-0800
TZNAME:PST
DTSTART:20181104T090000
END:STANDARD
BEGIN:DAYLIGHT
TZOFFSETFROM:-0800
TZOFFSETTO:-0700
TZNAME:PDT
DTSTART:20190310T100000
END:DAYLIGHT
BEGIN:STANDARD
TZOFFSETFROM:-0700
TZOFFSETTO:-0800
TZNAME:PST
DTSTART:20191103T090000
END:STANDARD
BEGIN:DAYLIGHT
TZOFFSETFROM:-0800
TZOFFSETTO:-0700
TZNAME:PDT
DTSTART:20200308T100000
END:DAYLIGHT
BEGIN:STANDARD
TZOFFSETFROM:-0700
TZOFFSETTO:-0800
TZNAME:PST
DTSTART:20201101T090000
END:STANDARD
END:VTIMEZONE
BEGIN:VEVENT
DTSTART;TZID=America/Los_Angeles:20190904T080000
DTEND;TZID=America/Los_Angeles:20190904T170000
DTSTAMP:20260424T002923
CREATED:20190904T171408Z
LAST-MODIFIED:20190904T171408Z
UID:136646-1567584000-1567616400@normandyparkblog.com
SUMMARY:Tribute to late Kennedy Coach Joe Faccone will be Saturday\, Sept. 21
DESCRIPTION:TAKE ME OUT TO THE BALLGAME\nA TRIBUTE TO KENNEDY COACH JOE FACCONE:\nSaturday\, Sept. 21 Noon – 3 p.m.: \n\n12 p.m.: Check-in\n12:15 p.m.: Program\n1 p.m.: Home Run Derby\, Food + Beer\, Lancer Baseball Archive\, and a bit of fundraising for Joe’s passion: baseball\n\nCHALLENGE COIN\nGold Coin Level: $5\,000 | Silver Coin Level: $1\,000 | Bronze Coin Level: $500 \nVINTAGE BASEBALL UNIFORMS – SILENT AUCTION\nPurchase one a many vintage jerseys to bring back those baseball memories. Starting bid $25. One exclusive 70’s jersey starting bid $100. \nCUSTOM LANCER BASEBALL HATS – $100\nProceeds benefit the Joe Faccone Play Ball Fund. This fund supports scholarships to graduating seniors to play college level baseball and to enhance the conditions of playing and watching games at Faccone Field. \nMORE INFO & RSVP HERE:\nhttps://www.kennedyhs.org/support-us/events/faccone\nQuestions? Contact Karen Cascio
URL:https://normandyparkblog.com/event/tribute-to-late-kennedy-coach-joe-faccone-will-be-saturday-sept-21-2/
LOCATION:WA
END:VEVENT
BEGIN:VEVENT
DTSTART;TZID=America/Los_Angeles:20190904T150000
DTEND;TZID=America/Los_Angeles:20190904T180000
DTSTAMP:20260424T002923
CREATED:20190901T005227Z
LAST-MODIFIED:20190901T005227Z
UID:136638-1567609200-1567620000@normandyparkblog.com
SUMMARY:Next FREE Repair Café will be Wednesday\, Sept. 4 at Burien Library
DESCRIPTION:The next FREE Repair Café will be held at the Burien Library\, from 3 – 6 p.m. on Wednesday\, Sept. 4: \nBring your small household items including clothing and we’ll work on them! We want to keep stuff out of the landfill\, conserve resources and save you money. FREE to the public! \nYou must be present during the repair. Our experienced general “fixers” and sewing fixers will try to repair or mend your items\, and can often also give you useful advice. There are no guarantees an item can be fixed\, or that attempting to fix it won’t break it even more. \nPlease only bring items small enough to be easily carried in by one person. Do not bring any items that are leaking\, dangerous\, contain gasoline\, or have a strong odor. Clothing and other textiles you bring in for mending should be washed first. \nAll King County repair events are first-come\, first-served\, with no appointments or set times. But please contact us in advance if possible to let us know what you plan to bring\, so our fixers can be prepared. For specialized repairs (which many are)\, please bring any specific parts or materials needed for your repair. \nTo ask about your repair\, or if you have questions about this event or any King County repair events\, contact Tom Watson by e-mail or at 206-477-4481. You can also post a comment or question on the Facebook event page external link for this Burien Library repair event. Thanks! \nWHAT: Burien Repair Café \nWHEN: Wed. Sept. 4\, 2019\, 3 – 6 p.m. \nWHERE: Burien Library\, 400 SW 152nd Street\, Burien\, WA 98166 \n\nYou’re invited to our next free repair event\, happening Sept. 4 at the @KCLS Library in @Burien. \nOur experienced fixers work on your items\, repairing or mending them if possible. ???????? \nThanks\, @Mynorthwest and @imrachelbelle\, for helping us get the word out. https://t.co/dBQzsu4vqy \n— King County\, WA (@KingCountyWA) August 14\, 2019
URL:https://normandyparkblog.com/event/next-free-repair-cafe-will-be-wednesday-sept-4-at-burien-library-2/
LOCATION:WA
END:VEVENT
END:VCALENDAR