BEGIN:VCALENDAR
VERSION:2.0
PRODID:-//The Normandy Park Blog - ECPv6.15.20//NONSGML v1.0//EN
CALSCALE:GREGORIAN
METHOD:PUBLISH
X-WR-CALNAME:The Normandy Park Blog
X-ORIGINAL-URL:https://normandyparkblog.com
X-WR-CALDESC:Events for The Normandy Park Blog
REFRESH-INTERVAL;VALUE=DURATION:PT1H
X-Robots-Tag:noindex
X-PUBLISHED-TTL:PT1H
BEGIN:VTIMEZONE
TZID:America/Los_Angeles
BEGIN:DAYLIGHT
TZOFFSETFROM:-0800
TZOFFSETTO:-0700
TZNAME:PDT
DTSTART:20180311T100000
END:DAYLIGHT
BEGIN:STANDARD
TZOFFSETFROM:-0700
TZOFFSETTO:-0800
TZNAME:PST
DTSTART:20181104T090000
END:STANDARD
BEGIN:DAYLIGHT
TZOFFSETFROM:-0800
TZOFFSETTO:-0700
TZNAME:PDT
DTSTART:20190310T100000
END:DAYLIGHT
BEGIN:STANDARD
TZOFFSETFROM:-0700
TZOFFSETTO:-0800
TZNAME:PST
DTSTART:20191103T090000
END:STANDARD
BEGIN:DAYLIGHT
TZOFFSETFROM:-0800
TZOFFSETTO:-0700
TZNAME:PDT
DTSTART:20200308T100000
END:DAYLIGHT
BEGIN:STANDARD
TZOFFSETFROM:-0700
TZOFFSETTO:-0800
TZNAME:PST
DTSTART:20201101T090000
END:STANDARD
END:VTIMEZONE
BEGIN:VEVENT
DTSTART;TZID=America/Los_Angeles:20190912T100000
DTEND;TZID=America/Los_Angeles:20190912T160000
DTSTAMP:20260424T003348
CREATED:20190909T233824Z
LAST-MODIFIED:20190909T233824Z
UID:136742-1568282400-1568304000@normandyparkblog.com
SUMMARY:Donors needed for Blood Drive at Burien City Hall this Thursday\, Sept. 12
DESCRIPTION:Donors are needed for a Blood Drive from 10 a.m. – 4 p.m. this Thursday\, Sept. 12 at Burien City Hall: \nAll blood types needed! Our daily mission and responsibility is to make sure our local hospitals have the life-saving blood products they need. Daily collections this summer have averaged less than 700\, but it takes about 900 donors a day to maintain a sufficient blood supply for the 100 hospitals served by Bloodworks. Due to inventory staying at alarmingly low levels all summer\, Bloodworks Northwest is making a special plea for donors right now. We really need the support of all of our donors to help lift our inventory\, to ensure we can keep up with patient demand. \nThere are lots of appointments open for platelet donation or whole blood donation – please sign up here or through the app! Walk-ins welcome around scheduled donors! \nWHERE: Burien City Hall Meeting Room (1st floor)\, 400 SW 152nd Street (map below). \nWHEN: Thursday\, September 12: 10:00 a.m. to 4:00 p.m. (closed 12:00 – 1 p.m.) \nCheck out the Bloodworks Northwest Blog for patient stories and read how donors save lives. \nDon’t forget: Eat something substantial (before and after you donate)\, stay hydrated\, bring your photo ID or donor card \nQuestions? Want us to schedule your appointment? Call 1-800-398-7888 or email schedule@bloodworksnw.org Sponsor Code: #1527 \nDownload the Bloodworks app When entering a sponsor code be sure to use the # symbol and the sponsor number (shown above). \nFollow Bloodworks Northwest on LinkedIn\, Facebook\, and Twitter.
URL:https://normandyparkblog.com/event/donors-needed-for-blood-drive-at-burien-city-hall-this-thursday-sept-12-2/
LOCATION:WA
END:VEVENT
END:VCALENDAR