BEGIN:VCALENDAR
VERSION:2.0
PRODID:-//The Normandy Park Blog - ECPv6.15.20//NONSGML v1.0//EN
CALSCALE:GREGORIAN
METHOD:PUBLISH
X-WR-CALNAME:The Normandy Park Blog
X-ORIGINAL-URL:https://normandyparkblog.com
X-WR-CALDESC:Events for The Normandy Park Blog
REFRESH-INTERVAL;VALUE=DURATION:PT1H
X-Robots-Tag:noindex
X-PUBLISHED-TTL:PT1H
BEGIN:VTIMEZONE
TZID:America/Los_Angeles
BEGIN:DAYLIGHT
TZOFFSETFROM:-0800
TZOFFSETTO:-0700
TZNAME:PDT
DTSTART:20180311T100000
END:DAYLIGHT
BEGIN:STANDARD
TZOFFSETFROM:-0700
TZOFFSETTO:-0800
TZNAME:PST
DTSTART:20181104T090000
END:STANDARD
BEGIN:DAYLIGHT
TZOFFSETFROM:-0800
TZOFFSETTO:-0700
TZNAME:PDT
DTSTART:20190310T100000
END:DAYLIGHT
BEGIN:STANDARD
TZOFFSETFROM:-0700
TZOFFSETTO:-0800
TZNAME:PST
DTSTART:20191103T090000
END:STANDARD
BEGIN:DAYLIGHT
TZOFFSETFROM:-0800
TZOFFSETTO:-0700
TZNAME:PDT
DTSTART:20200308T100000
END:DAYLIGHT
BEGIN:STANDARD
TZOFFSETFROM:-0700
TZOFFSETTO:-0800
TZNAME:PST
DTSTART:20201101T090000
END:STANDARD
END:VTIMEZONE
BEGIN:VEVENT
DTSTART;TZID=America/Los_Angeles:20190914T100000
DTEND;TZID=America/Los_Angeles:20190914T123000
DTSTAMP:20260424T002834
CREATED:20190901T005658Z
LAST-MODIFIED:20190901T005658Z
UID:136641-1568455200-1568464200@normandyparkblog.com
SUMMARY:Learn about Rainwater Harvesting on Saturday\, Sept. 14
DESCRIPTION:Learn about Rainwater Harvesting at a free class on Saturday\, Sept. 14\, from 10 a.m. — 12:30 p.m. at the Burien Community Center. \nIn this class\, homeowners will learn about rainwater harvesting and how to cut the size of their utility bill. \nThis is an introductory class on the basics of capturing rainwater\, storing it\, moving it\, and using it. \nThe speaker will share the evolutionary process he has learned over 30 years of designing and building his home system\, how it started\, and how well it is working today. \nThe class: \n\nCovers common problems that may be encountered in developing a home system.\nDiscusses interesting aspects on water itself. From an engineering standpoint\, it’s one of the more troublesome substances to understand and work with.\nOffers instructional materials with pictures on installation process.\nA field trip to the instructor’s house to see the existing system will be available after the class for participants.\n\n \nBurien Community Center is located at 14700 6th Ave SW:
URL:https://normandyparkblog.com/event/learn-about-rainwater-harvesting-on-saturday-sept-14-2/
LOCATION:WA
END:VEVENT
BEGIN:VEVENT
DTSTART;TZID=America/Los_Angeles:20190914T110000
DTEND;TZID=America/Los_Angeles:20190914T160000
DTSTAMP:20260424T002834
CREATED:20190909T190715Z
LAST-MODIFIED:20190909T190715Z
UID:136712-1568458800-1568476800@normandyparkblog.com
SUMMARY:English Fête returning to St. Luke's this Saturday\, Sept. 14
DESCRIPTION:Now in its 6th year\, St. Luke’s English Fête will being a bit of olde England to downtown Renton this coming Saturday\, Sept. 14. \n \nA fun and festive event for all ages patterned after a traditional English country village fair\, this event includes traditional English foods\, carnival games and prizes\, Sound and Fury Morris dancers\, English music\, cake stall\, raffles\, British car show\, silent auction and beer\, wine and cider in the Crown and Thistle pub. \nThis is St. Luke’s biggest fundraiser of the year\, and is an event not to be missed! \nENJOY THE HIGH TEA\nSun-dappled tables in the shade of a kiwi-tree\, dazzling dahlias in bloom swaying in the soft September breeze – such are the delights of high tea served in the brimming parish garden at historic St. Luke Episcopal Church in Old Renton. Ideally situated across from Jones Park at 99 Wells Ave S.\, St. Luke’s offers a lucky few a sumptuous traditionally English-styled high tea\, elegantly served with linens\, China\, and gleaming silver. Savories\, finger sandwiches\, tarts\, scones\, and made-from-scratch clotted cream with berries are a few of the delicacies included in the modest $20/person cost. Children are welcome at the discounted rate of $15\, and you can even opt to begin your repast with a mimosa upgrade for just an additional $5. \nRESERVE YOUR SEAT FOR HIGH TEA!\nTables seat four and we expect to sell all seats. Should you desire private seating\, you may reserve the whole table and fill it with friends\, or we will be delighted to send any extra portions home with you for later enjoyment. Thank you for understanding the fundraising nature of this event. \nDue to the nature of this fundraising event and coordinating volunteers\, tickets are nonrefundable. \nCLICK HERE TO RESERVE YOUR HIGH TEA SEAT\nMore info here: \n\nhttps://stlukesrenton.org/event/english-fete/\nhttps://www.facebook.com/events/742625342840806/\n\nSt. Luke’s Episcopal Church is located at 99 Wells Ave S. in Renton:
URL:https://normandyparkblog.com/event/english-fete-returning-to-st-lukes-this-saturday-sept-14/
LOCATION:WA
END:VEVENT
BEGIN:VEVENT
DTSTART;TZID=America/Los_Angeles:20190914T140000
DTEND;TZID=America/Los_Angeles:20190914T170000
DTSTAMP:20260424T002834
CREATED:20190913T004948Z
LAST-MODIFIED:20190913T004948Z
UID:137402-1568469600-1568480400@normandyparkblog.com
SUMMARY:Travis Thompson's Album Listening Party is Saturday at Skateboard Park
DESCRIPTION:Ambaum’s own Travis Thompson will be holding an Album Listening Party this Saturday\, Sept. 14\, from 2 – 5 p.m. at Burien’s Skateboard Park on 4th Ave SW & SW 146th Street (map below). \nThompson is a Burien native who also happens to be an up-and-coming rap star\, who recently signed with Epic Records. \nListen to Travis’ great\, original music here: https://soundcloud.com/travisraps \n \n\nI’m throwing my Album Listening Party at the skatepark I grew up at! \nThis Sat- Sept 14th! \nWe’ll have Free Merch\, Free Food & Ice Cream\, Showbox tix & more! Invite the whole fam! Hope we can see you there ????❤️ pic.twitter.com/GzJSFfsx8w \n— RECKLESS ENDANGERMENT 9/20 (@travisxthompson) September 12\, 2019
URL:https://normandyparkblog.com/event/travis-thompsons-album-listening-party-is-saturday-at-skateboard-park/
LOCATION:WA
END:VEVENT
BEGIN:VEVENT
DTSTART;TZID=America/Los_Angeles:20190914T210000
DTEND;TZID=America/Los_Angeles:20190914T233000
DTSTAMP:20260424T002834
CREATED:20190901T005405Z
LAST-MODIFIED:20190901T005405Z
UID:136639-1568494800-1568503800@normandyparkblog.com
SUMMARY:Celebrate September Birthdays 1970s style at Burien’s Classic Eats Saturday\, Sept. 14!
DESCRIPTION:SPONSORED: Celebrate September B-Days in the 1970s style at Burien’s Classic Eats on Saturday Sept. 14!  \n \n70s night returns to Classic Eats in Olde Burien with a celebration of notable September babies from around town\, Studio 54 style. \nIt’s time to break out your sleek qiana shirts\, halter dresses and white leisure suits for Groovy 70s tunes all night\, drink specials\, dancing and a costume contest you won’t forget. \nClassic Eats will be open late for this special evening\, which begins at 8 p.m. and runs to 1 a.m. You cannot have night life like this any old day in Burien…NO! \nClassic Eats only hosts these events a handful of times per year\, so do not miss it! \nMark you calendar now to boogie-oogie-oogie ’til you just cain’t boogie no more! \nClassic Eats is located at 918 SW 152nd Street in Olde Burien:
URL:https://normandyparkblog.com/event/celebrate-september-birthdays-1970s-style-at-buriens-classic-eats-saturday-sept-14-2/
LOCATION:WA
END:VEVENT
END:VCALENDAR