BEGIN:VCALENDAR
VERSION:2.0
PRODID:-//The Normandy Park Blog - ECPv6.15.20//NONSGML v1.0//EN
CALSCALE:GREGORIAN
METHOD:PUBLISH
X-ORIGINAL-URL:https://normandyparkblog.com
X-WR-CALDESC:Events for The Normandy Park Blog
REFRESH-INTERVAL;VALUE=DURATION:PT1H
X-Robots-Tag:noindex
X-PUBLISHED-TTL:PT1H
BEGIN:VTIMEZONE
TZID:America/Los_Angeles
BEGIN:DAYLIGHT
TZOFFSETFROM:-0800
TZOFFSETTO:-0700
TZNAME:PDT
DTSTART:20180311T100000
END:DAYLIGHT
BEGIN:STANDARD
TZOFFSETFROM:-0700
TZOFFSETTO:-0800
TZNAME:PST
DTSTART:20181104T090000
END:STANDARD
BEGIN:DAYLIGHT
TZOFFSETFROM:-0800
TZOFFSETTO:-0700
TZNAME:PDT
DTSTART:20190310T100000
END:DAYLIGHT
BEGIN:STANDARD
TZOFFSETFROM:-0700
TZOFFSETTO:-0800
TZNAME:PST
DTSTART:20191103T090000
END:STANDARD
BEGIN:DAYLIGHT
TZOFFSETFROM:-0800
TZOFFSETTO:-0700
TZNAME:PDT
DTSTART:20200308T100000
END:DAYLIGHT
BEGIN:STANDARD
TZOFFSETFROM:-0700
TZOFFSETTO:-0800
TZNAME:PST
DTSTART:20201101T090000
END:STANDARD
END:VTIMEZONE
BEGIN:VEVENT
DTSTART;TZID=America/Los_Angeles:20190924T173000
DTEND;TZID=America/Los_Angeles:20190924T193000
DTSTAMP:20260424T003010
CREATED:20190912T230748Z
LAST-MODIFIED:20190912T230748Z
UID:137356-1569346200-1569353400@normandyparkblog.com
SUMMARY:Close out the summer and network at 'Power Connect' on Tuesday\, Sept. 24
DESCRIPTION:Close out the summer and connect with LGBTQ and allied professionals\, business owners\, and community leaders during the next ‘Power Connect’ at Burien Toyota on Tuesday\, Sept. 24\, 2019\, from 5:30 – 7:30 p.m. \nWhether you’re looking to expand your network\, explore professional opportunities\, connect with the LGBTQ community\, or learn more about GSBA membership\, this quarterly meet-up is sure to be help you forge friendships and create connections. \nSpecial Guests include: \n\nBurien City Councilmember Krystal Marx\nKing County Councilmember Joe McDermott\nKing County Councilmember Dave Upthegrove\n\nEvent details: \nWHEN: Tuesday\, Sept. 24\, 2019\, 5:30 p.m. to 7:30 p.m. \nCOST: $15.00 \nWHERE: Burien Toyota\, 15025 1st Ave. S\, Burien\, WA \nEMAIL: office@thegsba.org \nPHONE: 206-363-9188 \nRSVP here: http://www.thegsba.org/events/event-details/2019/09/25/gsba-events/1994 \nAbout Power Connect\nPower Connect is a quarterly after-hours mixer for LGBTQ and allied business and community leaders. GSBA\, Washington State’s LGBTQ & Allied Chamber of Commerce\, hosts this event to foster meaningful business and social connections between our members\, allies\, and community. \nOur Featured Nonprofits: \n\nLGBTQ Allyship builds power among LGBTQ communities and allies in Washington State to work towards economic\, racial\, and gender justice. We do this through community organizing\, education\, advocacy\, and developing grassroots leadership in solidarity with other marginalized communities.\nEntre Hermanos’ mission is to promote the health and well-being of the Latino Gay\, Lesbian\, Bisexual\, Transgender\, and questioning community in a culturally appropriate environment through disease prevention\, education\, support services\, advocacy and community building.\nThe Highline Area Food Bank\, a 501C3 nonprofit\, was established in 1995 by a group of seven area churches who serve the City of Burien and the Greater Highline Area.
URL:https://normandyparkblog.com/event/close-out-the-summer-and-network-at-power-connect-on-tuesday-sept-24/
LOCATION:WA
END:VEVENT
END:VCALENDAR