BEGIN:VCALENDAR
VERSION:2.0
PRODID:-//The Normandy Park Blog - ECPv6.15.20//NONSGML v1.0//EN
CALSCALE:GREGORIAN
METHOD:PUBLISH
X-WR-CALNAME:The Normandy Park Blog
X-ORIGINAL-URL:https://normandyparkblog.com
X-WR-CALDESC:Events for The Normandy Park Blog
REFRESH-INTERVAL;VALUE=DURATION:PT1H
X-Robots-Tag:noindex
X-PUBLISHED-TTL:PT1H
BEGIN:VTIMEZONE
TZID:America/Los_Angeles
BEGIN:DAYLIGHT
TZOFFSETFROM:-0800
TZOFFSETTO:-0700
TZNAME:PDT
DTSTART:20180311T100000
END:DAYLIGHT
BEGIN:STANDARD
TZOFFSETFROM:-0700
TZOFFSETTO:-0800
TZNAME:PST
DTSTART:20181104T090000
END:STANDARD
BEGIN:DAYLIGHT
TZOFFSETFROM:-0800
TZOFFSETTO:-0700
TZNAME:PDT
DTSTART:20190310T100000
END:DAYLIGHT
BEGIN:STANDARD
TZOFFSETFROM:-0700
TZOFFSETTO:-0800
TZNAME:PST
DTSTART:20191103T090000
END:STANDARD
BEGIN:DAYLIGHT
TZOFFSETFROM:-0800
TZOFFSETTO:-0700
TZNAME:PDT
DTSTART:20200308T100000
END:DAYLIGHT
BEGIN:STANDARD
TZOFFSETFROM:-0700
TZOFFSETTO:-0800
TZNAME:PST
DTSTART:20201101T090000
END:STANDARD
END:VTIMEZONE
BEGIN:VEVENT
DTSTART;TZID=America/Los_Angeles:20190925T170000
DTEND;TZID=America/Los_Angeles:20190925T200000
DTSTAMP:20260424T003349
CREATED:20190924T003641Z
LAST-MODIFIED:20190924T003641Z
UID:142730-1569430800-1569441600@normandyparkblog.com
SUMMARY:Seattle Southside Chamber's 'Candidates Night' will be Wed.\, Sept. 25
DESCRIPTION:Thomas Jefferson once said: \nâ€œWe do not have government by the majority. We have government by the majority who participate.â€ \nThe Seattle Southside Chamber of Commerce invites all to participate on Wednesday\, Sept. 25 during a â€œMeet the Candidates and Elected Officials Night.â€ This will be an opportunity for you and other community members to meet candidates and other elected officials in local city council and Port of Seattle elections. \nAll members of the community are invited to the non-partisan\, non-sectional and non-sectarian event that has been hosted by the Chamber of Commerce for more than 30 years. Doors will open at the DoubleTree Southcenter in Tukwila at 5:00 p.m. and the event will begin at 5:30 p.m. and end at 8:00 p.m. \nThe forum provides all elected officials and candidates in the November Election with the opportunity to engage as well as meet and greet. This includes candidates for: \n\nBurien City Council\nDes Moines City Council\nNormandy Park City Council\nTukwila City Council\nSeaTac City Council\nPort of Seattle Commissioners\n\nThis year the chamber has also invited the candidates to fill out a short Questionnaire answering the following questions: \n\nWhat is your top priority policy issue you will focus on as an elected official?\nPlease describe your past experience advocating for the business community?\nAs an elected official what will you do to advocate for the business community?\nWhere can we find out more about you and your campaign?\n\nEvent Details: \nWHAT: Candidates Night \nWHEN: September 25\, 2019\, 5:00 p.m. to 8:00 p.m. \nWHERE: DoubleTree Suites By Hilton Southcenter\, 16500 Southcenter Pkwy\, Tukwila\, WA 98188 \nREGISTER: Click Here to Register \nThis event is hosted by the Seattle Southside Chamber of Commerce Government Affairs Committee\, which focuses on the issues that matter most in our region and the communities we serve. For more information about the event\, including registration\, please visit \nhttps://www.seattlesouthsidechamber.com/events/details/candidates-night-09-25-2019-2796.\nThank you to The Boeing Company\, Louise Strander\, South King Media\, and Crain Photography for sponsoring this event. Thank you to our host\, the DoubleTree Southcenter in Tukwila. \nIf you are a local candidate or elected official and would like more information about how to participate\, please contact Andrea Reay at Andrea@SeattleSouthsideChamber.com. \n“We hope to see you at this great event to encourage engagement and participation in our democracy and local elections.”
URL:https://normandyparkblog.com/event/seattle-southside-chambers-candidates-night-will-be-wed-sept-25/
LOCATION:WA
END:VEVENT
END:VCALENDAR