BEGIN:VCALENDAR
VERSION:2.0
PRODID:-//The Normandy Park Blog - ECPv6.15.20//NONSGML v1.0//EN
CALSCALE:GREGORIAN
METHOD:PUBLISH
X-ORIGINAL-URL:https://normandyparkblog.com
X-WR-CALDESC:Events for The Normandy Park Blog
REFRESH-INTERVAL;VALUE=DURATION:PT1H
X-Robots-Tag:noindex
X-PUBLISHED-TTL:PT1H
BEGIN:VTIMEZONE
TZID:America/Los_Angeles
BEGIN:DAYLIGHT
TZOFFSETFROM:-0800
TZOFFSETTO:-0700
TZNAME:PDT
DTSTART:20180311T100000
END:DAYLIGHT
BEGIN:STANDARD
TZOFFSETFROM:-0700
TZOFFSETTO:-0800
TZNAME:PST
DTSTART:20181104T090000
END:STANDARD
BEGIN:DAYLIGHT
TZOFFSETFROM:-0800
TZOFFSETTO:-0700
TZNAME:PDT
DTSTART:20190310T100000
END:DAYLIGHT
BEGIN:STANDARD
TZOFFSETFROM:-0700
TZOFFSETTO:-0800
TZNAME:PST
DTSTART:20191103T090000
END:STANDARD
BEGIN:DAYLIGHT
TZOFFSETFROM:-0800
TZOFFSETTO:-0700
TZNAME:PDT
DTSTART:20200308T100000
END:DAYLIGHT
BEGIN:STANDARD
TZOFFSETFROM:-0700
TZOFFSETTO:-0800
TZNAME:PST
DTSTART:20201101T090000
END:STANDARD
END:VTIMEZONE
BEGIN:VEVENT
DTSTART;TZID=America/Los_Angeles:20190929T130000
DTEND;TZID=America/Los_Angeles:20190929T150000
DTSTAMP:20260423T225848
CREATED:20190916T175430Z
LAST-MODIFIED:20190916T175430Z
UID:137548-1569762000-1569769200@normandyparkblog.com
SUMMARY:Burien Brat Trot will be Sunday\, Sept. 29!
DESCRIPTION:The Tin Room Bar Presents\nBrat Trot & Bavarian Fest\nSunday\, Sept. 29\, 2019\n5K Run at 1 p.m.\n1 Mile Run at 2 p.m.\nThe Burien Brat Trot – coming Sunday\, Sept. 29\, 2019 – is a flat and fast 5k and one mile race through the streets of Burien followed by the best street party around…Bavarian Fest!  \nThis event is complete with beer gardens\, live bands\, sausage\, activities for the kids\, food\, and so much more. There will even have a pre-race warm up led by Hot Feet Fitness of Burien! \nThe run is family-friendly\, stroller-friendly\, and a great time for all. \nAnd\, most importantly\, all proceeds benefit the students of Highline Public Schools. \nDon’t Miss It! \nCLICK HERE TO REGISTER!\n \nBENEFITS HIGHLINE SCHOOLS FOUNDATION\nThe Highline Schools Foundation was established in 1999 to support the work of Highline Public Schools which serves the communities of Burien\, Des Moines\, Normandy Park\, Beverly Park\, SeaTac\, and White Center. We are the only non-profit organization which supports all schools in Highline Public Schools. The foundation is funded solely by private contributions and operates separately from Highline Public Schools. Click here for more info. \n \n\nHave you registered for the @BurienBratTrot 5K? The family race supports our students and schools! Register today and get ready for all the fun on September 29! https://t.co/McLhf2R7Dd @HighlineSchlsFd pic.twitter.com/FOds7nBya7 \n— Highline Schools (@HighlineSchools) September 16\, 2019
URL:https://normandyparkblog.com/event/137548/
LOCATION:WA
END:VEVENT
END:VCALENDAR