BEGIN:VCALENDAR
VERSION:2.0
PRODID:-//The Normandy Park Blog - ECPv6.15.20//NONSGML v1.0//EN
CALSCALE:GREGORIAN
METHOD:PUBLISH
X-ORIGINAL-URL:https://normandyparkblog.com
X-WR-CALDESC:Events for The Normandy Park Blog
REFRESH-INTERVAL;VALUE=DURATION:PT1H
X-Robots-Tag:noindex
X-PUBLISHED-TTL:PT1H
BEGIN:VTIMEZONE
TZID:America/Los_Angeles
BEGIN:DAYLIGHT
TZOFFSETFROM:-0800
TZOFFSETTO:-0700
TZNAME:PDT
DTSTART:20180311T100000
END:DAYLIGHT
BEGIN:STANDARD
TZOFFSETFROM:-0700
TZOFFSETTO:-0800
TZNAME:PST
DTSTART:20181104T090000
END:STANDARD
BEGIN:DAYLIGHT
TZOFFSETFROM:-0800
TZOFFSETTO:-0700
TZNAME:PDT
DTSTART:20190310T100000
END:DAYLIGHT
BEGIN:STANDARD
TZOFFSETFROM:-0700
TZOFFSETTO:-0800
TZNAME:PST
DTSTART:20191103T090000
END:STANDARD
BEGIN:DAYLIGHT
TZOFFSETFROM:-0800
TZOFFSETTO:-0700
TZNAME:PDT
DTSTART:20200308T100000
END:DAYLIGHT
BEGIN:STANDARD
TZOFFSETFROM:-0700
TZOFFSETTO:-0800
TZNAME:PST
DTSTART:20201101T090000
END:STANDARD
END:VTIMEZONE
BEGIN:VEVENT
DTSTART;TZID=America/Los_Angeles:20191012T090000
DTEND;TZID=America/Los_Angeles:20191012T120000
DTSTAMP:20260423T225848
CREATED:20190901T004736Z
LAST-MODIFIED:20190901T004736Z
UID:136635-1570870800-1570881600@normandyparkblog.com
SUMMARY:First-ever 'Green Burien Day' will be Saturday\, Oct. 12
DESCRIPTION:Celebrate the first-ever ‘Green Burien Day’ on Saturday\, Oct. 12\, 2019\, from 9 a.m. – Noon at the Burien Community Center\, by helping enhance the urban forest and beautify center grounds: \nJoin PaRCS and Green Burien staff as we plant baby trees\, shrubs\, and ground cover plants! \nWe will supply gloves\, tools\, water\, and snacks. \nWe will teach you everything you need to know about tool use\, safety\, forest health\, and the importance of the work you will be doing. \nNo experience necessary\, just come ready to have fun and learn something new! \nPlease wear clothes that can get dirty and closed toed shoes. \nMore info here: https://www.facebook.com/events/760534081016022/
URL:https://normandyparkblog.com/event/first-ever-green-burien-day-will-be-saturday-oct-12-2/
LOCATION:WA
END:VEVENT
END:VCALENDAR