BEGIN:VCALENDAR
VERSION:2.0
PRODID:-//The Normandy Park Blog - ECPv6.15.20//NONSGML v1.0//EN
CALSCALE:GREGORIAN
METHOD:PUBLISH
X-WR-CALNAME:The Normandy Park Blog
X-ORIGINAL-URL:https://normandyparkblog.com
X-WR-CALDESC:Events for The Normandy Park Blog
REFRESH-INTERVAL;VALUE=DURATION:PT1H
X-Robots-Tag:noindex
X-PUBLISHED-TTL:PT1H
BEGIN:VTIMEZONE
TZID:America/Los_Angeles
BEGIN:DAYLIGHT
TZOFFSETFROM:-0800
TZOFFSETTO:-0700
TZNAME:PDT
DTSTART:20180311T100000
END:DAYLIGHT
BEGIN:STANDARD
TZOFFSETFROM:-0700
TZOFFSETTO:-0800
TZNAME:PST
DTSTART:20181104T090000
END:STANDARD
BEGIN:DAYLIGHT
TZOFFSETFROM:-0800
TZOFFSETTO:-0700
TZNAME:PDT
DTSTART:20190310T100000
END:DAYLIGHT
BEGIN:STANDARD
TZOFFSETFROM:-0700
TZOFFSETTO:-0800
TZNAME:PST
DTSTART:20191103T090000
END:STANDARD
BEGIN:DAYLIGHT
TZOFFSETFROM:-0800
TZOFFSETTO:-0700
TZNAME:PDT
DTSTART:20200308T100000
END:DAYLIGHT
BEGIN:STANDARD
TZOFFSETFROM:-0700
TZOFFSETTO:-0800
TZNAME:PST
DTSTART:20201101T090000
END:STANDARD
END:VTIMEZONE
BEGIN:VEVENT
DTSTART;TZID=America/Los_Angeles:20191017T110000
DTEND;TZID=America/Los_Angeles:20191017T180000
DTSTAMP:20260423T225720
CREATED:20190913T043451Z
LAST-MODIFIED:20190913T043451Z
UID:137436-1571310000-1571335200@normandyparkblog.com
SUMMARY:Burien Farmers Market is every Thursday through Oct. 31
DESCRIPTION:The Burien Farmers Market continues every Thursday at Town Square Park\, from 11 a.m. – 6 p.m. \nMore info here: \nhttps://www.discoverburien.org/events-2019/2019/1/3/farmers-market
URL:https://normandyparkblog.com/event/burien-farmers-market-is-every-thursday-through-oct-31-6/
LOCATION:WA
END:VEVENT
BEGIN:VEVENT
DTSTART;TZID=America/Los_Angeles:20191017T190000
DTEND;TZID=America/Los_Angeles:20191017T200000
DTSTAMP:20260423T225720
CREATED:20191012T193056Z
LAST-MODIFIED:20191012T193056Z
UID:142821-1571338800-1571342400@normandyparkblog.com
SUMMARY:Public Hearing on possible re-zoning of Normandy Park will be Thurs.\, Oct. 17
DESCRIPTION:The City of Normandy Park is considering implementing amendments to the City’s Comprehensive Plan Future Land Use Map and a concurrent area-wide rezone\,” and will be holding a Public Hearing on Thursday\, Oct. 17\, 2019. \nThis open meeting will start at 7 p.m. at Normandy Park City Council Chambers at City Hall\, located at 801 SW 174th Street (map below). \nAlso\, residents concerned about zoning changes are being encouraged to show up at the council meeting this Tuesday\, Oct. 8 at 7 p.m. to speak during the Public Comment period. \nCity Manager Mark Hoppen said: \n“Review the Planning documents listed on the bottom of City of Normandy Park website (listed below). The first document on the list sums up what is being considered; all the documents completely describe the ideas to be considered by the public and the Planning Commission. There is no limit to how long this can take before the Planning Commission makes its recommendations to the City Council. There is no limit to how long the City Council can continue public discussion before deciding upon a course of action. \nSeveral areas along 1st Avenue are being considered for Comp Plan designation and correlated zoning changes that expand current commercial areas and uses. Why? So that Normandy Park might sometime in the future have a better chance of paying for basic services – especially police service – without having to resort to excess property taxes\, as is currently the case. \nThese ideas have been developing for several years and will be assessed by the public and appointed officials\, and then by elected officials. The chief issues for the public and appointed/elected officials to review and consider\, in my view\, are 1) are the areas proposed appropriate; 2) are buffers between commercial and residential uses and structural types sufficient; and 3) are the structural transitions (building heights and volumes) between potential commercial and residential uses acceptable. \nThe reason that comprehensive plan designations and zoning changes are displayed at this time is because both changes go hand-in-hand\, and to evaluate one\, a person has to consider the other. The comp plan can be considered by itself first\, but without knowing the details (the proposed zoning)\, the analysis task is all big picture. Transparency demands being able to look at a whole picture upfront.” \n2019 COMPREHENSIVE PLAN DOCKET DOCUMENTS:  \n\n2019-2 Docket Proposal – Future Land Use Map Amendment/Rezone Proposal \n2019-3 Docket Proposal – Future Land Use Map Amendment/Rezone Proposal \nDRAFT of Ordinance 999 – 2019 Comprehensive Plan Update \nDRAFT of Ordinance 1000 – 2019 Rezone \n\nHere’s full text of the announcement posted on the city’s website: \nREVISED PUBLIC HEARING NOTICE Ordinance No. 999 adopting \nAmendments to the City’s Comprehensive Plan and Future Land Use Map Ordinance No. 1000 adopting\nConcurrent amending of the City’s Official Zoning Map for consistency with the Comprehensive Plan Amendments. \n7:00 p.m. Thursday\, October 17\, 2019 City Council Chambers\, Normandy Park City Hall\, 801 SW 174th Street Normandy Park\, Washington 98166 \nNOTICE IS HEREBY GIVEN that the Planning Commission of the City of Normandy Park\, Washington\, will hold a public hearing on Thursday\, October 17\, 2019 at 7:00 p.m. in the Council Chambers at Normandy Park City Hall\, 801 SW 174th Street\, Normandy Park\, Washington 98166. The purpose of the hearing will be to take public testimony concerning Normandy Park Ordinance No. 999 and Ordinance No. 1000 for adoption of amendments to the City’s Comprehensive Plan Future Land Use Map and a concurrent area-wide rezone for consistency with the Comprehensive Plan. \nA copy of Ordinance No. 999 and Ordinance No. 1000 is available for review in the Normandy Park City Clerk’s office at Normandy Park City Hall\, by calling 206-248-8248\, or via email at bwall@normandyparkwa.gov. \nAll interested persons are invited to appear and testify at the public hearing on Thursday\, October 17\, 2019. Written comments on the Ordinances\, questions about the Ordinances\, or questions about the Public Hearing\, should be directed to Holly Keeton\, Community Development Director\, in person or by USPS mail at the above address\, or by email at hkeeton@normandyparkwa.gov. \nHere’s the most recent zoning map (2017) from the city’s website:
URL:https://normandyparkblog.com/event/public-hearing-on-possible-re-zoning-of-normandy-park-will-be-thurs-oct-17/
LOCATION:Normandy Park City Hall\, 801 SW 174th Street\, Normandy Park\, WA\, 98166\, United States
END:VEVENT
END:VCALENDAR