BEGIN:VCALENDAR
VERSION:2.0
PRODID:-//The Normandy Park Blog - ECPv6.15.20//NONSGML v1.0//EN
CALSCALE:GREGORIAN
METHOD:PUBLISH
X-ORIGINAL-URL:https://normandyparkblog.com
X-WR-CALDESC:Events for The Normandy Park Blog
REFRESH-INTERVAL;VALUE=DURATION:PT1H
X-Robots-Tag:noindex
X-PUBLISHED-TTL:PT1H
BEGIN:VTIMEZONE
TZID:America/Los_Angeles
BEGIN:DAYLIGHT
TZOFFSETFROM:-0800
TZOFFSETTO:-0700
TZNAME:PDT
DTSTART:20180311T100000
END:DAYLIGHT
BEGIN:STANDARD
TZOFFSETFROM:-0700
TZOFFSETTO:-0800
TZNAME:PST
DTSTART:20181104T090000
END:STANDARD
BEGIN:DAYLIGHT
TZOFFSETFROM:-0800
TZOFFSETTO:-0700
TZNAME:PDT
DTSTART:20190310T100000
END:DAYLIGHT
BEGIN:STANDARD
TZOFFSETFROM:-0700
TZOFFSETTO:-0800
TZNAME:PST
DTSTART:20191103T090000
END:STANDARD
BEGIN:DAYLIGHT
TZOFFSETFROM:-0800
TZOFFSETTO:-0700
TZNAME:PDT
DTSTART:20200308T100000
END:DAYLIGHT
BEGIN:STANDARD
TZOFFSETFROM:-0700
TZOFFSETTO:-0800
TZNAME:PST
DTSTART:20201101T090000
END:STANDARD
END:VTIMEZONE
BEGIN:VEVENT
DTSTART;TZID=America/Los_Angeles:20191207T090000
DTEND;TZID=America/Los_Angeles:20191207T160000
DTSTAMP:20260423T080345
CREATED:20191126T215654Z
LAST-MODIFIED:20191126T215654Z
UID:143058-1575709200-1575734400@normandyparkblog.com
SUMMARY:Holiday Bazaar will be at Normandy Park Cove on Saturday\, Dec. 7!
DESCRIPTION:SPONSORED: \nCome do your holiday shopping the fun and easy way at the Holiday Bazaar at the Normandy Park Cove on Saturday\, Dec. 7\, 2019! \nPeruse high-quality handcrafted gift and décor items presented by 40 original artists at this famous holiday market. There will be everything from personalized ornaments to hand-blown glass to doll clothes. What started out as a neighborhood bazaar now attracts vendors and shoppers from all over the Seattle/Tacoma area. \nKennedy Catholic High School GIRLS LACROSSE will be holding a fundraiser\, so stop by the kitchen for lunch! \nThe doors open at 9 a.m.\, so make this the first stop in your day of bazaar hopping. \nThey’ll have refreshments available for purchase. \nAnd\, one thing you can always count on at the Cove’s bazaar is running into many “old” friends – it’s a tradition! \nWHAT: HOLIDAY BAZAAR! \nWHEN: Saturday\, Dec. 7: 9 a.m to 3 p.m. \nWHERE: Normandy Park Cove Community Club\, 1500 SW Shorebrook Dr\, Normandy Park\, WA 98166 (map below) \nINFO: More info here: https://www.npcove.org/calendar/?month=dec&yr=2019#
URL:https://normandyparkblog.com/event/holiday-bazaar-will-be-at-normandy-park-cove-on-saturday-dec-7/
LOCATION:Normandy Park Cove Community Club\, 1500 SW Shorebrook Drive\, Normandy Park\, WA\, 98166\, United States
END:VEVENT
BEGIN:VEVENT
DTSTART;TZID=America/Los_Angeles:20191207T110000
DTEND;TZID=America/Los_Angeles:20191207T130000
DTSTAMP:20260423T080345
CREATED:20191012T192415Z
LAST-MODIFIED:20191012T192415Z
UID:142814-1575716400-1575723600@normandyparkblog.com
SUMMARY:Winterfest will be at Manhattan Village from 11 a.m. – 1 p.m. on Sat.\, Dec. 7
DESCRIPTION:SAVE THE DATE: Normandy Park’s Winterfest and 7th annual Tree Lighting Ceremony will be held on Saturday\, Dec. 7: \n\n11 a.m. – 1 p.m. at Manhattan Village: Cookie decorating at QFC\, Santa\, carolers and a school choir.\n5 – 6:30 p.m. at Normandy Park Towne Center: 7th annual Tree Lighting Ceremony\, arrival of Santa\, Arts & Crafts\, Schoo choirs\, prizes for children\, hot beverages and SNOW!\n\n“Lots of holiday festivities are planned!!”
URL:https://normandyparkblog.com/event/winterfest-will-be-at-manhattan-village-from-11-a-m-1-p-m-on-sat-dec-7/
LOCATION:Manhattan Village\, 17847 1st Ave South\, Normandy Park\, WA\, 98148\, United States
END:VEVENT
BEGIN:VEVENT
DTSTART;TZID=America/Los_Angeles:20191207T170000
DTEND;TZID=America/Los_Angeles:20191207T183000
DTSTAMP:20260423T080345
CREATED:20191012T192614Z
LAST-MODIFIED:20191012T192614Z
UID:142818-1575738000-1575743400@normandyparkblog.com
SUMMARY:Winterfest & Tree Lighting at Normandy Park Towne Center 5–6:30 p.m. Sat.\, Dec. 7
DESCRIPTION:SAVE THE DATE: Normandy Park’s Winterfest and 7th annual Tree Lighting Ceremony will be held on Saturday\, Dec. 7: \n\n11 a.m. – 1 p.m. at Manhattan Village: Cookie decorating at QFC\, Santa\, carolers and a school choir.\n5 – 6:30 p.m. at Normandy Park Towne Center: 7th annual Tree Lighting Ceremony\, arrival of Santa\, Arts & Crafts\, Schoo choirs\, prizes for children\, hot beverages and SNOW!\n\n“Lots of holiday festivities are planned!!”
URL:https://normandyparkblog.com/event/winterfest-tree-lighting-at-normandy-park-towne-center-5-630-p-m-sat-dec-7/
LOCATION:Normandy Park Towne Center\, 19805 1st Ave South\, Normandy Park\, WA\, 98148\, United States
END:VEVENT
END:VCALENDAR