BEGIN:VCALENDAR
VERSION:2.0
PRODID:-//The Normandy Park Blog - ECPv6.15.20//NONSGML v1.0//EN
CALSCALE:GREGORIAN
METHOD:PUBLISH
X-WR-CALNAME:The Normandy Park Blog
X-ORIGINAL-URL:https://normandyparkblog.com
X-WR-CALDESC:Events for The Normandy Park Blog
REFRESH-INTERVAL;VALUE=DURATION:PT1H
X-Robots-Tag:noindex
X-PUBLISHED-TTL:PT1H
BEGIN:VTIMEZONE
TZID:America/Los_Angeles
BEGIN:DAYLIGHT
TZOFFSETFROM:-0800
TZOFFSETTO:-0700
TZNAME:PDT
DTSTART:20180311T100000
END:DAYLIGHT
BEGIN:STANDARD
TZOFFSETFROM:-0700
TZOFFSETTO:-0800
TZNAME:PST
DTSTART:20181104T090000
END:STANDARD
BEGIN:DAYLIGHT
TZOFFSETFROM:-0800
TZOFFSETTO:-0700
TZNAME:PDT
DTSTART:20190310T100000
END:DAYLIGHT
BEGIN:STANDARD
TZOFFSETFROM:-0700
TZOFFSETTO:-0800
TZNAME:PST
DTSTART:20191103T090000
END:STANDARD
BEGIN:DAYLIGHT
TZOFFSETFROM:-0800
TZOFFSETTO:-0700
TZNAME:PDT
DTSTART:20200308T100000
END:DAYLIGHT
BEGIN:STANDARD
TZOFFSETFROM:-0700
TZOFFSETTO:-0800
TZNAME:PST
DTSTART:20201101T090000
END:STANDARD
END:VTIMEZONE
BEGIN:VEVENT
DTSTART;TZID=America/Los_Angeles:20191217T180000
DTEND;TZID=America/Los_Angeles:20191217T200000
DTSTAMP:20260422T171824
CREATED:20191124T170231Z
LAST-MODIFIED:20191124T170231Z
UID:143033-1576605600-1576612800@normandyparkblog.com
SUMMARY:Contest for best holiday-lit Normandy Park homes will be Tues.\, Dec. 17!
DESCRIPTION:Join in the fun of lighting up Normandy Park! \nOn Tuesday\, Dec. 17\, from 6-8 p.m.\, the Normandy Park Police Department will be driving around with the Arts Commission and Friends of Normandy Park to give out awards for homes that are decorated with the best light displays! \nMore info here: https://www.facebook.com/events/2235684246731796/
URL:https://normandyparkblog.com/event/contest-for-best-holiday-lit-normandy-park-homes-will-be-tues-dec-17/
LOCATION:WA
END:VEVENT
END:VCALENDAR