BEGIN:VCALENDAR
VERSION:2.0
PRODID:-//The Normandy Park Blog - ECPv6.15.20//NONSGML v1.0//EN
CALSCALE:GREGORIAN
METHOD:PUBLISH
X-WR-CALNAME:The Normandy Park Blog
X-ORIGINAL-URL:https://normandyparkblog.com
X-WR-CALDESC:Events for The Normandy Park Blog
REFRESH-INTERVAL;VALUE=DURATION:PT1H
X-Robots-Tag:noindex
X-PUBLISHED-TTL:PT1H
BEGIN:VTIMEZONE
TZID:America/Los_Angeles
BEGIN:DAYLIGHT
TZOFFSETFROM:-0800
TZOFFSETTO:-0700
TZNAME:PDT
DTSTART:20190310T100000
END:DAYLIGHT
BEGIN:STANDARD
TZOFFSETFROM:-0700
TZOFFSETTO:-0800
TZNAME:PST
DTSTART:20191103T090000
END:STANDARD
BEGIN:DAYLIGHT
TZOFFSETFROM:-0800
TZOFFSETTO:-0700
TZNAME:PDT
DTSTART:20200308T100000
END:DAYLIGHT
BEGIN:STANDARD
TZOFFSETFROM:-0700
TZOFFSETTO:-0800
TZNAME:PST
DTSTART:20201101T090000
END:STANDARD
BEGIN:DAYLIGHT
TZOFFSETFROM:-0800
TZOFFSETTO:-0700
TZNAME:PDT
DTSTART:20210314T100000
END:DAYLIGHT
BEGIN:STANDARD
TZOFFSETFROM:-0700
TZOFFSETTO:-0800
TZNAME:PST
DTSTART:20211107T090000
END:STANDARD
END:VTIMEZONE
BEGIN:VEVENT
DTSTART;TZID=America/Los_Angeles:20200804T200000
DTEND;TZID=America/Los_Angeles:20200804T200000
DTSTAMP:20260421T015051
CREATED:20200717T002409Z
LAST-MODIFIED:20200717T002409Z
UID:143841-1596571200-1596571200@normandyparkblog.com
SUMMARY:VOTE – The deadline to return ballots for Primary Election is 8 p.m. Tuesday\, Aug. 4
DESCRIPTION:The deadline to vote in the Primary Election is 8 p.m. Tuesday\, Aug. 4\, 2020! \nA ballot box is located at: \nNormandy Park Towne Center \n19901 1st Avenue South\nNormandy Park\, WA 98148\nDirections to Normandy Park Towne Center  \nReview ballot initiatives and candidates here: \nhttps://www.kingcounty.gov/depts/elections/how-to-vote/ballots/whats-on-the-ballot.aspx
URL:https://normandyparkblog.com/event/vote-the-deadline-to-return-ballots-for-primary-election-is-8-p-m-tuesday-aug-4/
LOCATION:Normandy Park Towne Center\, 19805 1st Ave South\, Normandy Park\, WA\, 98148\, United States
END:VEVENT
END:VCALENDAR