BEGIN:VCALENDAR
VERSION:2.0
PRODID:-//The Normandy Park Blog - ECPv6.15.20//NONSGML v1.0//EN
CALSCALE:GREGORIAN
METHOD:PUBLISH
X-ORIGINAL-URL:https://normandyparkblog.com
X-WR-CALDESC:Events for The Normandy Park Blog
REFRESH-INTERVAL;VALUE=DURATION:PT1H
X-Robots-Tag:noindex
X-PUBLISHED-TTL:PT1H
BEGIN:VTIMEZONE
TZID:America/Los_Angeles
BEGIN:DAYLIGHT
TZOFFSETFROM:-0800
TZOFFSETTO:-0700
TZNAME:PDT
DTSTART:20180311T100000
END:DAYLIGHT
BEGIN:STANDARD
TZOFFSETFROM:-0700
TZOFFSETTO:-0800
TZNAME:PST
DTSTART:20181104T090000
END:STANDARD
BEGIN:DAYLIGHT
TZOFFSETFROM:-0800
TZOFFSETTO:-0700
TZNAME:PDT
DTSTART:20190310T100000
END:DAYLIGHT
BEGIN:STANDARD
TZOFFSETFROM:-0700
TZOFFSETTO:-0800
TZNAME:PST
DTSTART:20191103T090000
END:STANDARD
BEGIN:DAYLIGHT
TZOFFSETFROM:-0800
TZOFFSETTO:-0700
TZNAME:PDT
DTSTART:20200308T100000
END:DAYLIGHT
BEGIN:STANDARD
TZOFFSETFROM:-0700
TZOFFSETTO:-0800
TZNAME:PST
DTSTART:20201101T090000
END:STANDARD
END:VTIMEZONE
BEGIN:VEVENT
DTSTART;TZID=America/Los_Angeles:20191106T190000
DTEND;TZID=America/Los_Angeles:20191106T210000
DTSTAMP:20260423T200542
CREATED:20191031T190151Z
LAST-MODIFIED:20191031T190151Z
UID:142889-1573066800-1573074000@normandyparkblog.com
SUMMARY:Public meeting about study of impacts of Sea-Tac Airport will be Wed. Nov. 6
DESCRIPTION:The public is invited to learn about a study of impacts of Sea-Tac Airport on Wednesday\, Nov. 6\, 2019 at Burien City Hall. \nThis free\, open meeting will run from 7 – 9 p.m. \nThe 2018 Washington State Legislature adopted an operating budget requiring the Department of Commerce to contract for a study of the Sea-Tac International Airport. \nThis comprehensive study documents the current and on-going effects of the operations of the airport. \nThe study must be submitted to the Legislature by June 1\, 2020. \nThe area for the study is SeaTac\, Burien\, Des Moines\, Federal Way\, Normandy Park\, and Tukwila. Each city is represented by two individuals: one who is city staff and one public representative. The Port of Seattle is also a member of the Committee. \nThe contractor selected to conduct the study is Stantec Services\, Inc. out of Texas. \nWHAT: Department of Commerce Public Meeting to provide a preliminary report on the study of impacts of Sea-Tac Airport to date. \nWHEN: Wednesday\, Nov. 6\, 2019: 7 – 9 p.m. \nWHERE: Burien Library/City Hall\, Multipurpose Room\, First Floor:
URL:https://normandyparkblog.com/event/public-meeting-about-study-of-impacts-of-sea-tac-airport-will-be-wed-nov-6/
LOCATION:Burien City Hall\, 400 SW 152nd Street\, Burien\, WA\, 98166\, United States
END:VEVENT
BEGIN:VEVENT
DTSTART;TZID=America/Los_Angeles:20191109T180000
DTEND;TZID=America/Los_Angeles:20191109T200000
DTSTAMP:20260423T200542
CREATED:20191105T231617Z
LAST-MODIFIED:20191105T231617Z
UID:142910-1573322400-1573329600@normandyparkblog.com
SUMMARY:See 'Mary Poppins Returns' FREE at Family Film Night this Sat.\, Nov. 9
DESCRIPTION:The Normandy Park Arts Commission invites all to see ‘Mary Poppins Returns‘ for FREE at Family Film Night this Saturday\, Nov. 9 at the Normandy Park Rec Center. \nThis free\, family-friendly event will run from 6 – 8 p.m.\, with FREE popcorn\, candy & drinks! \n“Bring your own pillows and blankets!” \nThe next Film Night will be Dec. 14\, with ‘The Nightmare Before Christmas.’ \n \nThe Normandy Park Rec Center is located at 801 SW 174th Street:
URL:https://normandyparkblog.com/event/see-mary-poppins-returns-free-at-family-film-night-this-sat-nov-9/
LOCATION:Normandy Park Rec Center\, 801 SW 174th Street\, Normandy Park\, WA\, 98166\, United States
END:VEVENT
BEGIN:VEVENT
DTSTART;TZID=America/Los_Angeles:20191128T110000
DTEND;TZID=America/Los_Angeles:20191128T170000
DTSTAMP:20260423T200542
CREATED:20191119T005206Z
LAST-MODIFIED:20191119T005206Z
UID:142976-1574938800-1574960400@normandyparkblog.com
SUMMARY:Classic Eats offering festive non-traditional menu this Thanksgiving Day–RSVP NOW!
DESCRIPTION:SPONSORED: \nCare to take a day off AND gather as family and friends in the heart of Olde Burien? That’s just what’s on the menu at Classic Eats from 11 a.m. – 5 p.m. on Thursday\, Nov. 28\, Thanksgiving Day 2019! \nOffering a limited menu which includes a variety of indulgent holiday entrees\, the Classic Eats family invite you to enjoy a relaxed and enjoyable holiday gathering. \nClassic Eats is known for their accommodating style and a family friendly ability to delight parties of many sizes. \nJust imagine – no shopping for ingredients! No cooking! No cleaning! Just more time to relax and enjoy your day of gratitude\, while you eat\, drink and be merry. \nBut don’t wait\, seating is limited – call 206-241-6275 today to book your reservation and look forward to a relaxing day this Thanksgiving. \n \nClassic Eats Restaurant\n918 SW 152nd Street\nBurien\, WA 98166 \nEmail: classiceats@yahoo.com \nPhone: (206) 241-6275 \nWebsite: http://www.classiceatsburien.com \nFacebook: https://www.facebook.com/classiceat/
URL:https://normandyparkblog.com/event/classic-eats-offering-festive-non-traditional-menu-this-thanksgiving-day-rsvp-now/
LOCATION:Classic Eats\, 918 SW 152nd Street\, Burien\, WA\, 98166\, United States
END:VEVENT
END:VCALENDAR